BEGIN:VCALENDAR
VERSION:2.0
PRODID:-//University of Washington Honors Program - ECPv6.7.1//NONSGML v1.0//EN
CALSCALE:GREGORIAN
METHOD:PUBLISH
X-WR-CALNAME:University of Washington Honors Program
X-ORIGINAL-URL:https://honors.uw.edu
X-WR-CALDESC:Events for University of Washington Honors Program
REFRESH-INTERVAL;VALUE=DURATION:PT1H
X-Robots-Tag:noindex
X-PUBLISHED-TTL:PT1H
BEGIN:VTIMEZONE
TZID:America/Los_Angeles
BEGIN:DAYLIGHT
TZOFFSETFROM:-0800
TZOFFSETTO:-0700
TZNAME:PDT
DTSTART:20260308T100000
END:DAYLIGHT
BEGIN:STANDARD
TZOFFSETFROM:-0700
TZOFFSETTO:-0800
TZNAME:PST
DTSTART:20261101T090000
END:STANDARD
END:VTIMEZONE
BEGIN:VEVENT
DTSTART;TZID=America/Los_Angeles:20260423T153000
DTEND;TZID=America/Los_Angeles:20260423T163000
DTSTAMP:20260423T044131
CREATED:20260407T194705Z
LAST-MODIFIED:20260407T194708Z
UID:19926-1776958200-1776961800@honors.uw.edu
SUMMARY:Reflection Cafe
DESCRIPTION:We invite you to join us in the Honors suite on Thursday\, April 23\, 2026 3:30-4:30 PM for our first ever Reflection Cafe! As you know\, participating in consistent critical reflection is a key pillar of your Interdisciplinary Honors requirements. This is a great opportunity to add artifacts and annotations to your portfolio or work on critical reflections for your Honors courses. There will be an opportunity for structured reflection activities with Honors staff as well as a space for students to reflect independently. \nPizza and snacks will be provided\, so make sure to RSVP through the form below. RSVP is not required but it does help us gauge how much pizza to buy! Bring your laptop and reflection tools\, grab some food\, reflect on this academic year\, and make some progress in your Honors reflection requirements.
URL:https://honors.uw.edu/event/reflection-cafe/
LOCATION:Washington
END:VEVENT
END:VCALENDAR